BEGIN:VCALENDAR
VERSION:2.0
PRODID:-//Avenue F Church of Christ - ECPv6.15.17//NONSGML v1.0//EN
CALSCALE:GREGORIAN
METHOD:PUBLISH
X-WR-CALNAME:Avenue F Church of Christ
X-ORIGINAL-URL:https://avefcoc.com
X-WR-CALDESC:Events for Avenue F Church of Christ
REFRESH-INTERVAL;VALUE=DURATION:PT1H
X-Robots-Tag:noindex
X-PUBLISHED-TTL:PT1H
BEGIN:VTIMEZONE
TZID:America/Chicago
BEGIN:DAYLIGHT
TZOFFSETFROM:-0600
TZOFFSETTO:-0500
TZNAME:CDT
DTSTART:20250309T080000
END:DAYLIGHT
BEGIN:STANDARD
TZOFFSETFROM:-0500
TZOFFSETTO:-0600
TZNAME:CST
DTSTART:20251102T070000
END:STANDARD
BEGIN:DAYLIGHT
TZOFFSETFROM:-0600
TZOFFSETTO:-0500
TZNAME:CDT
DTSTART:20260308T080000
END:DAYLIGHT
BEGIN:STANDARD
TZOFFSETFROM:-0500
TZOFFSETTO:-0600
TZNAME:CST
DTSTART:20261101T070000
END:STANDARD
BEGIN:DAYLIGHT
TZOFFSETFROM:-0600
TZOFFSETTO:-0500
TZNAME:CDT
DTSTART:20270314T080000
END:DAYLIGHT
BEGIN:STANDARD
TZOFFSETFROM:-0500
TZOFFSETTO:-0600
TZNAME:CST
DTSTART:20271107T070000
END:STANDARD
END:VTIMEZONE
BEGIN:VEVENT
DTSTART;TZID=America/Chicago:20260301T120000
DTEND;TZID=America/Chicago:20260301T140000
DTSTAMP:20260424T113009
CREATED:20260309T005435Z
LAST-MODIFIED:20260309T005435Z
UID:30039-1772366400-1772373600@avefcoc.com
SUMMARY:JASA Sister Love Brunch
DESCRIPTION:Join us for a beautiful time of sisterhood as we gather to plan and pray over the year ahead. This brunch will serve as our JASA Ladies Ministry Planning Meeting\, where we will discuss our vision and theme\, upcoming events\, and ministry activities for the year. \n✨ Come ready to share\n✨ Come ready to serve\n✨ Come ready to love
URL:https://avefcoc.com/events/jasa-sister-love-brunch/
CATEGORIES:JASA - Just A Sister Away
ATTACH;FMTTYPE=image/webp:https://avefcoc.com/wp-content/uploads/2026/02/Floral-Background-Flyer-for-Sister-Love-Brunch-1.webp
END:VEVENT
BEGIN:VEVENT
DTSTART;TZID=America/Chicago:20260205T183000
DTEND;TZID=America/Chicago:20260205T200000
DTSTAMP:20260424T113009
CREATED:20260309T005247Z
LAST-MODIFIED:20260309T005247Z
UID:29963-1770316200-1770321600@avefcoc.com
SUMMARY:Sister Circle Talk
DESCRIPTION:Ladies of Ave. F Church of Christ:\nLet’s come together to talk\, learn\, grow\, and support one another.\nWhat to Expect:\n– Real conversations about life\, faith\, and womanhood\n– A safe space to learn\, grow\, and be uplifted\n– Encouragement\, bonding\, and prayer\n– Monthly gatherings on the 1st Thursday of each month \nLet’s build a sisterhood where no woman walks alone. Come as you are\, leave filled and inspired.
URL:https://avefcoc.com/events/sister-circle-talk/
LOCATION:ave f church of Christ
CATEGORIES:JASA - Just A Sister Away
ATTACH;FMTTYPE=image/webp:https://avefcoc.com/wp-content/uploads/2026/01/Sister-Circle-Talk.webp
END:VEVENT
END:VCALENDAR