BEGIN:VCALENDAR
VERSION:2.0
PRODID:-//Avenue F Church of Christ - ECPv6.15.17//NONSGML v1.0//EN
CALSCALE:GREGORIAN
METHOD:PUBLISH
X-ORIGINAL-URL:https://avefcoc.com
X-WR-CALDESC:Events for Avenue F Church of Christ
REFRESH-INTERVAL;VALUE=DURATION:PT1H
X-Robots-Tag:noindex
X-PUBLISHED-TTL:PT1H
BEGIN:VTIMEZONE
TZID:America/Chicago
BEGIN:DAYLIGHT
TZOFFSETFROM:-0600
TZOFFSETTO:-0500
TZNAME:CDT
DTSTART:20250309T080000
END:DAYLIGHT
BEGIN:STANDARD
TZOFFSETFROM:-0500
TZOFFSETTO:-0600
TZNAME:CST
DTSTART:20251102T070000
END:STANDARD
BEGIN:DAYLIGHT
TZOFFSETFROM:-0600
TZOFFSETTO:-0500
TZNAME:CDT
DTSTART:20260308T080000
END:DAYLIGHT
BEGIN:STANDARD
TZOFFSETFROM:-0500
TZOFFSETTO:-0600
TZNAME:CST
DTSTART:20261101T070000
END:STANDARD
BEGIN:DAYLIGHT
TZOFFSETFROM:-0600
TZOFFSETTO:-0500
TZNAME:CDT
DTSTART:20270314T080000
END:DAYLIGHT
BEGIN:STANDARD
TZOFFSETFROM:-0500
TZOFFSETTO:-0600
TZNAME:CST
DTSTART:20271107T070000
END:STANDARD
END:VTIMEZONE
BEGIN:VEVENT
DTSTART;TZID=America/Chicago:20260604T183000
DTEND;TZID=America/Chicago:20260604T200000
DTSTAMP:20260424T095711
CREATED:20260309T005621Z
LAST-MODIFIED:20260309T005621Z
UID:30118-1780597800-1780603200@avefcoc.com
SUMMARY:JASA Sister Circle Talk
DESCRIPTION:Ladies of Ave. F Church of Christ: Let’s come together to talk\, grow\, and support one another. What to Expect: – Real conversations about life\, faith\, and womanhood – A safe space to learn\, grow\, and be uplifted – Encouragement\, bonding\, and prayer – Monthly gatherings on the 1st Thursday of each month Let’s build a sisterhood where no woman walks alone. Come as you are\, leave filled and inspired. Starting Thursday\, August 7\, 2025 6:30 PM | Ave. F Church of Christ 1026 F Ave\, Plano\, TX 75074
URL:https://avefcoc.com/events/jasa-sister-circle-talk-3/
LOCATION:ave f church of Christ
CATEGORIES:JASA - Just A Sister Away
END:VEVENT
END:VCALENDAR