BEGIN:VCALENDAR
VERSION:2.0
PRODID:-//Avenue F Church of Christ - ECPv6.15.17//NONSGML v1.0//EN
CALSCALE:GREGORIAN
METHOD:PUBLISH
X-WR-CALNAME:Avenue F Church of Christ
X-ORIGINAL-URL:https://avefcoc.com
X-WR-CALDESC:Events for Avenue F Church of Christ
REFRESH-INTERVAL;VALUE=DURATION:PT1H
X-Robots-Tag:noindex
X-PUBLISHED-TTL:PT1H
BEGIN:VTIMEZONE
TZID:America/Chicago
BEGIN:DAYLIGHT
TZOFFSETFROM:-0600
TZOFFSETTO:-0500
TZNAME:CDT
DTSTART:20240310T080000
END:DAYLIGHT
BEGIN:STANDARD
TZOFFSETFROM:-0500
TZOFFSETTO:-0600
TZNAME:CST
DTSTART:20241103T070000
END:STANDARD
BEGIN:DAYLIGHT
TZOFFSETFROM:-0600
TZOFFSETTO:-0500
TZNAME:CDT
DTSTART:20250309T080000
END:DAYLIGHT
BEGIN:STANDARD
TZOFFSETFROM:-0500
TZOFFSETTO:-0600
TZNAME:CST
DTSTART:20251102T070000
END:STANDARD
BEGIN:DAYLIGHT
TZOFFSETFROM:-0600
TZOFFSETTO:-0500
TZNAME:CDT
DTSTART:20260308T080000
END:DAYLIGHT
BEGIN:STANDARD
TZOFFSETFROM:-0500
TZOFFSETTO:-0600
TZNAME:CST
DTSTART:20261101T070000
END:STANDARD
BEGIN:DAYLIGHT
TZOFFSETFROM:-0600
TZOFFSETTO:-0500
TZNAME:CDT
DTSTART:20270314T080000
END:DAYLIGHT
BEGIN:STANDARD
TZOFFSETFROM:-0500
TZOFFSETTO:-0600
TZNAME:CST
DTSTART:20271107T070000
END:STANDARD
END:VTIMEZONE
BEGIN:VEVENT
DTSTART;TZID=America/Chicago:20250114T190000
DTEND;TZID=America/Chicago:20250114T200000
DTSTAMP:20260424T064436
CREATED:20250106T033759Z
LAST-MODIFIED:20250124T002029Z
UID:28415-1736881200-1736884800@avefcoc.com
SUMMARY:NMLB Men's Roundtable
DESCRIPTION:Join us for the NMLB Men’s Roundtable where we discuss topics impacting men today\, provide support for one another\, and grow in Christ together.
URL:https://avefcoc.com/events/nmlb-mens-roundtable-2/
CATEGORIES:NMLB - No Man Left Behind Ministry
ATTACH;FMTTYPE=image/webp:https://avefcoc.com/wp-content/uploads/2025/01/roundtableImge2025.webp
END:VEVENT
BEGIN:VEVENT
DTSTART;TZID=America/Chicago:20260208T113000
DTEND;TZID=America/Chicago:20260208T123000
DTSTAMP:20260424T064436
CREATED:20260212T022630Z
LAST-MODIFIED:20260212T022753Z
UID:29979-1770550200-1770553800@avefcoc.com
SUMMARY:JASA Ladies Day Planning Meeting
DESCRIPTION:If you are interested in participating in or helping plan our Ladies Day Program on April 11\, 2026\, please plan to stay after 10:00 AM service on Sunday\, February 8. We’ll take some time immediately following service to discuss the vision\, roles\, and ideas for the event. \nThe theme for this year’s JASA ministry and the Ladies Day Program will be:\n“Pray Without Cease\, Walk in His Peace.”\nWe’ll share how this theme will guide the program and explore how each of us can contribute in meaningful ways. \nWhether you feel led to serve on stage\, behind the scenes\, or simply want to be part of the planning process\, your voice and gifts are welcome. This will be a collaborative conversation as we begin shaping what God has in store for Ladies Day.
URL:https://avefcoc.com/events/jasa-ladies-day-planning-meeting/
LOCATION:ave f church of Christ
ATTACH;FMTTYPE=image/png:https://avefcoc.com/wp-content/uploads/2026/01/Flyer-JASA-Ladies-Day-Planning-Meeting.png
END:VEVENT
BEGIN:VEVENT
DTSTART;TZID=America/Chicago:20260205T183000
DTEND;TZID=America/Chicago:20260205T200000
DTSTAMP:20260424T064436
CREATED:20260309T005247Z
LAST-MODIFIED:20260309T005247Z
UID:29963-1770316200-1770321600@avefcoc.com
SUMMARY:Sister Circle Talk
DESCRIPTION:Ladies of Ave. F Church of Christ:\nLet’s come together to talk\, learn\, grow\, and support one another.\nWhat to Expect:\n– Real conversations about life\, faith\, and womanhood\n– A safe space to learn\, grow\, and be uplifted\n– Encouragement\, bonding\, and prayer\n– Monthly gatherings on the 1st Thursday of each month \nLet’s build a sisterhood where no woman walks alone. Come as you are\, leave filled and inspired.
URL:https://avefcoc.com/events/sister-circle-talk/
LOCATION:ave f church of Christ
CATEGORIES:JASA - Just A Sister Away
ATTACH;FMTTYPE=image/webp:https://avefcoc.com/wp-content/uploads/2026/01/Sister-Circle-Talk.webp
END:VEVENT
BEGIN:VEVENT
DTSTART;TZID=America/Chicago:20260201T080000
DTEND;TZID=America/Chicago:20260225T170000
DTSTAMP:20260424T064436
CREATED:20260309T005337Z
LAST-MODIFIED:20260309T005337Z
UID:29994-1769932800-1772038800@avefcoc.com
SUMMARY:Samaritan Inn Donation
DESCRIPTION:Souly-Ly Focused is partnering with Samaritan Inn again! \nThey are asking for donations of cleaning supplies. We are asking for all donations to be dropped off on 2/25. \nThey are asking for glass cleaner\, all purpose cleaner\, magic erasers\, disinfectant wipes\, toilet\, shower\, and floor cleaner.
URL:https://avefcoc.com/events/samaritan-inn-donation-2/
LOCATION:Avenue F Church of Christ\, 1026 F Avenue\, Plano\, TX\, 75074\, United States
CATEGORIES:Singles
END:VEVENT
BEGIN:VEVENT
DTSTART;TZID=America/Chicago:20260201T080000
DTEND;TZID=America/Chicago:20260225T170000
DTSTAMP:20260424T064436
CREATED:20260212T022658Z
LAST-MODIFIED:20260212T022658Z
UID:29991-1769932800-1772038800@avefcoc.com
SUMMARY:Samaritan Inn Donation
DESCRIPTION:We have partnered with the Samaritan Inn in McKinney for the month of February.  \nThe are asking for donations of cleaning supplies\, specifically\, Glass cleaners\, all purpose cleaner\, magic erasers\, disinfectant wipes\, toilet cleaner \, shower cleaner and floor cleaner. \nI am asking that all donations are dropped off to the church by 2/25 and the full donation to Samaritan Inn will happen 2/26.
URL:https://avefcoc.com/events/samaritan-inn-donation/
LOCATION:Avenue F Church of Christ\, 1026 F Avenue\, Plano\, TX\, 75074\, United States
CATEGORIES:Singles
END:VEVENT
BEGIN:VEVENT
DTSTART;TZID=America/Chicago:20260131T183000
DTEND;TZID=America/Chicago:20260131T203000
DTSTAMP:20260424T064436
CREATED:20260309T005313Z
LAST-MODIFIED:20260309T005313Z
UID:29929-1769884200-1769891400@avefcoc.com
SUMMARY:Doormat Paint Party
DESCRIPTION:A mobile company will be coming to the church and provided all materials needed for us to decorate doormats.\nPaint\, doormats\, and stencils are provided by Kicky Mats.\nThis event is $50 per person\, we will charge $20 per person and use the budget for the remainder.\nTotal invoice is due on four days before the event so Tuesday \, 1/27/26.\nSpace is limited\, 12 people max.
URL:https://avefcoc.com/events/doormat-paint-party-2/
LOCATION:Avenue F Church of Christ\, 1026 F Avenue\, Plano\, TX\, 75074\, United States
CATEGORIES:Singles
ATTACH;FMTTYPE=image/webp:https://avefcoc.com/wp-content/uploads/2026/01/1.webp
END:VEVENT
BEGIN:VEVENT
DTSTART;TZID=America/Chicago:20250114T190000
DTEND;TZID=America/Chicago:20250114T200000
DTSTAMP:20260424T064436
CREATED:20250106T033759Z
LAST-MODIFIED:20250124T002029Z
UID:28415-1736881200-1736884800@avefcoc.com
SUMMARY:NMLB Men's Roundtable
DESCRIPTION:Join us for the NMLB Men’s Roundtable where we discuss topics impacting men today\, provide support for one another\, and grow in Christ together.
URL:https://avefcoc.com/events/nmlb-mens-roundtable-2/
CATEGORIES:NMLB - No Man Left Behind Ministry
ATTACH;FMTTYPE=image/webp:https://avefcoc.com/wp-content/uploads/2025/01/roundtableImge2025.webp
END:VEVENT
BEGIN:VEVENT
DTSTART;TZID=America/Chicago:20250114T190000
DTEND;TZID=America/Chicago:20250114T200000
DTSTAMP:20260424T064436
CREATED:20250106T033759Z
LAST-MODIFIED:20250124T002029Z
UID:28415-1736881200-1736884800@avefcoc.com
SUMMARY:NMLB Men's Roundtable
DESCRIPTION:Join us for the NMLB Men’s Roundtable where we discuss topics impacting men today\, provide support for one another\, and grow in Christ together.
URL:https://avefcoc.com/events/nmlb-mens-roundtable-2/
CATEGORIES:NMLB - No Man Left Behind Ministry
ATTACH;FMTTYPE=image/webp:https://avefcoc.com/wp-content/uploads/2025/01/roundtableImge2025.webp
END:VEVENT
BEGIN:VEVENT
DTSTART;TZID=America/Chicago:20250114T190000
DTEND;TZID=America/Chicago:20250114T200000
DTSTAMP:20260424T064436
CREATED:20250106T033759Z
LAST-MODIFIED:20250124T002029Z
UID:28415-1736881200-1736884800@avefcoc.com
SUMMARY:NMLB Men's Roundtable
DESCRIPTION:Join us for the NMLB Men’s Roundtable where we discuss topics impacting men today\, provide support for one another\, and grow in Christ together.
URL:https://avefcoc.com/events/nmlb-mens-roundtable-2/
CATEGORIES:NMLB - No Man Left Behind Ministry
ATTACH;FMTTYPE=image/webp:https://avefcoc.com/wp-content/uploads/2025/01/roundtableImge2025.webp
END:VEVENT
BEGIN:VEVENT
DTSTART;TZID=America/Chicago:20250114T190000
DTEND;TZID=America/Chicago:20250114T200000
DTSTAMP:20260424T064436
CREATED:20250106T033759Z
LAST-MODIFIED:20250124T002029Z
UID:28415-1736881200-1736884800@avefcoc.com
SUMMARY:NMLB Men's Roundtable
DESCRIPTION:Join us for the NMLB Men’s Roundtable where we discuss topics impacting men today\, provide support for one another\, and grow in Christ together.
URL:https://avefcoc.com/events/nmlb-mens-roundtable-2/
CATEGORIES:NMLB - No Man Left Behind Ministry
ATTACH;FMTTYPE=image/webp:https://avefcoc.com/wp-content/uploads/2025/01/roundtableImge2025.webp
END:VEVENT
BEGIN:VEVENT
DTSTART;TZID=America/Chicago:20250114T190000
DTEND;TZID=America/Chicago:20250114T200000
DTSTAMP:20260424T064436
CREATED:20250106T033759Z
LAST-MODIFIED:20250124T002029Z
UID:28415-1736881200-1736884800@avefcoc.com
SUMMARY:NMLB Men's Roundtable
DESCRIPTION:Join us for the NMLB Men’s Roundtable where we discuss topics impacting men today\, provide support for one another\, and grow in Christ together.
URL:https://avefcoc.com/events/nmlb-mens-roundtable-2/
CATEGORIES:NMLB - No Man Left Behind Ministry
ATTACH;FMTTYPE=image/webp:https://avefcoc.com/wp-content/uploads/2025/01/roundtableImge2025.webp
END:VEVENT
BEGIN:VEVENT
DTSTART;TZID=America/Chicago:20250114T190000
DTEND;TZID=America/Chicago:20250114T200000
DTSTAMP:20260424T064436
CREATED:20250106T033759Z
LAST-MODIFIED:20250124T002029Z
UID:28415-1736881200-1736884800@avefcoc.com
SUMMARY:NMLB Men's Roundtable
DESCRIPTION:Join us for the NMLB Men’s Roundtable where we discuss topics impacting men today\, provide support for one another\, and grow in Christ together.
URL:https://avefcoc.com/events/nmlb-mens-roundtable-2/
CATEGORIES:NMLB - No Man Left Behind Ministry
ATTACH;FMTTYPE=image/webp:https://avefcoc.com/wp-content/uploads/2025/01/roundtableImge2025.webp
END:VEVENT
BEGIN:VEVENT
DTSTART;TZID=America/Chicago:20250114T190000
DTEND;TZID=America/Chicago:20250114T200000
DTSTAMP:20260424T064436
CREATED:20250106T033759Z
LAST-MODIFIED:20250124T002029Z
UID:28415-1736881200-1736884800@avefcoc.com
SUMMARY:NMLB Men's Roundtable
DESCRIPTION:Join us for the NMLB Men’s Roundtable where we discuss topics impacting men today\, provide support for one another\, and grow in Christ together.
URL:https://avefcoc.com/events/nmlb-mens-roundtable-2/
CATEGORIES:NMLB - No Man Left Behind Ministry
ATTACH;FMTTYPE=image/webp:https://avefcoc.com/wp-content/uploads/2025/01/roundtableImge2025.webp
END:VEVENT
BEGIN:VEVENT
DTSTART;TZID=America/Chicago:20250114T190000
DTEND;TZID=America/Chicago:20250114T200000
DTSTAMP:20260424T064436
CREATED:20250106T033759Z
LAST-MODIFIED:20250124T002029Z
UID:28415-1736881200-1736884800@avefcoc.com
SUMMARY:NMLB Men's Roundtable
DESCRIPTION:Join us for the NMLB Men’s Roundtable where we discuss topics impacting men today\, provide support for one another\, and grow in Christ together.
URL:https://avefcoc.com/events/nmlb-mens-roundtable-2/
CATEGORIES:NMLB - No Man Left Behind Ministry
ATTACH;FMTTYPE=image/webp:https://avefcoc.com/wp-content/uploads/2025/01/roundtableImge2025.webp
END:VEVENT
BEGIN:VEVENT
DTSTART;TZID=America/Chicago:20250114T190000
DTEND;TZID=America/Chicago:20250114T200000
DTSTAMP:20260424T064436
CREATED:20250106T033759Z
LAST-MODIFIED:20250124T002029Z
UID:28415-1736881200-1736884800@avefcoc.com
SUMMARY:NMLB Men's Roundtable
DESCRIPTION:Join us for the NMLB Men’s Roundtable where we discuss topics impacting men today\, provide support for one another\, and grow in Christ together.
URL:https://avefcoc.com/events/nmlb-mens-roundtable-2/
CATEGORIES:NMLB - No Man Left Behind Ministry
ATTACH;FMTTYPE=image/webp:https://avefcoc.com/wp-content/uploads/2025/01/roundtableImge2025.webp
END:VEVENT
BEGIN:VEVENT
DTSTART;TZID=America/Chicago:20250114T190000
DTEND;TZID=America/Chicago:20250114T200000
DTSTAMP:20260424T064436
CREATED:20250106T033759Z
LAST-MODIFIED:20250124T002029Z
UID:28415-1736881200-1736884800@avefcoc.com
SUMMARY:NMLB Men's Roundtable
DESCRIPTION:Join us for the NMLB Men’s Roundtable where we discuss topics impacting men today\, provide support for one another\, and grow in Christ together.
URL:https://avefcoc.com/events/nmlb-mens-roundtable-2/
CATEGORIES:NMLB - No Man Left Behind Ministry
ATTACH;FMTTYPE=image/webp:https://avefcoc.com/wp-content/uploads/2025/01/roundtableImge2025.webp
END:VEVENT
BEGIN:VEVENT
DTSTART;TZID=America/Chicago:20250114T190000
DTEND;TZID=America/Chicago:20250114T200000
DTSTAMP:20260424T064436
CREATED:20250106T033759Z
LAST-MODIFIED:20250124T002029Z
UID:28415-1736881200-1736884800@avefcoc.com
SUMMARY:NMLB Men's Roundtable
DESCRIPTION:Join us for the NMLB Men’s Roundtable where we discuss topics impacting men today\, provide support for one another\, and grow in Christ together.
URL:https://avefcoc.com/events/nmlb-mens-roundtable-2/
CATEGORIES:NMLB - No Man Left Behind Ministry
ATTACH;FMTTYPE=image/webp:https://avefcoc.com/wp-content/uploads/2025/01/roundtableImge2025.webp
END:VEVENT
BEGIN:VEVENT
DTSTART;TZID=America/Chicago:20250114T190000
DTEND;TZID=America/Chicago:20250114T200000
DTSTAMP:20260424T064436
CREATED:20250106T033759Z
LAST-MODIFIED:20250124T002029Z
UID:28415-1736881200-1736884800@avefcoc.com
SUMMARY:NMLB Men's Roundtable
DESCRIPTION:Join us for the NMLB Men’s Roundtable where we discuss topics impacting men today\, provide support for one another\, and grow in Christ together.
URL:https://avefcoc.com/events/nmlb-mens-roundtable-2/
CATEGORIES:NMLB - No Man Left Behind Ministry
ATTACH;FMTTYPE=image/webp:https://avefcoc.com/wp-content/uploads/2025/01/roundtableImge2025.webp
END:VEVENT
BEGIN:VEVENT
DTSTART;TZID=America/Chicago:20250114T190000
DTEND;TZID=America/Chicago:20250114T200000
DTSTAMP:20260424T064436
CREATED:20250106T033759Z
LAST-MODIFIED:20250124T002029Z
UID:28415-1736881200-1736884800@avefcoc.com
SUMMARY:NMLB Men's Roundtable
DESCRIPTION:Join us for the NMLB Men’s Roundtable where we discuss topics impacting men today\, provide support for one another\, and grow in Christ together.
URL:https://avefcoc.com/events/nmlb-mens-roundtable-2/
CATEGORIES:NMLB - No Man Left Behind Ministry
ATTACH;FMTTYPE=image/webp:https://avefcoc.com/wp-content/uploads/2025/01/roundtableImge2025.webp
END:VEVENT
BEGIN:VEVENT
DTSTART;TZID=America/Chicago:20250114T190000
DTEND;TZID=America/Chicago:20250114T200000
DTSTAMP:20260424T064436
CREATED:20250106T033759Z
LAST-MODIFIED:20250124T002029Z
UID:28415-1736881200-1736884800@avefcoc.com
SUMMARY:NMLB Men's Roundtable
DESCRIPTION:Join us for the NMLB Men’s Roundtable where we discuss topics impacting men today\, provide support for one another\, and grow in Christ together.
URL:https://avefcoc.com/events/nmlb-mens-roundtable-2/
CATEGORIES:NMLB - No Man Left Behind Ministry
ATTACH;FMTTYPE=image/webp:https://avefcoc.com/wp-content/uploads/2025/01/roundtableImge2025.webp
END:VEVENT
BEGIN:VEVENT
DTSTART;TZID=America/Chicago:20250114T190000
DTEND;TZID=America/Chicago:20250114T200000
DTSTAMP:20260424T064436
CREATED:20250106T033759Z
LAST-MODIFIED:20250124T002029Z
UID:28415-1736881200-1736884800@avefcoc.com
SUMMARY:NMLB Men's Roundtable
DESCRIPTION:Join us for the NMLB Men’s Roundtable where we discuss topics impacting men today\, provide support for one another\, and grow in Christ together.
URL:https://avefcoc.com/events/nmlb-mens-roundtable-2/
CATEGORIES:NMLB - No Man Left Behind Ministry
ATTACH;FMTTYPE=image/webp:https://avefcoc.com/wp-content/uploads/2025/01/roundtableImge2025.webp
END:VEVENT
BEGIN:VEVENT
DTSTART;TZID=America/Chicago:20250114T190000
DTEND;TZID=America/Chicago:20250114T200000
DTSTAMP:20260424T064436
CREATED:20250106T033759Z
LAST-MODIFIED:20250124T002029Z
UID:28415-1736881200-1736884800@avefcoc.com
SUMMARY:NMLB Men's Roundtable
DESCRIPTION:Join us for the NMLB Men’s Roundtable where we discuss topics impacting men today\, provide support for one another\, and grow in Christ together.
URL:https://avefcoc.com/events/nmlb-mens-roundtable-2/
CATEGORIES:NMLB - No Man Left Behind Ministry
ATTACH;FMTTYPE=image/webp:https://avefcoc.com/wp-content/uploads/2025/01/roundtableImge2025.webp
END:VEVENT
BEGIN:VEVENT
DTSTART;TZID=America/Chicago:20250114T190000
DTEND;TZID=America/Chicago:20250114T200000
DTSTAMP:20260424T064436
CREATED:20250106T033759Z
LAST-MODIFIED:20250124T002029Z
UID:28415-1736881200-1736884800@avefcoc.com
SUMMARY:NMLB Men's Roundtable
DESCRIPTION:Join us for the NMLB Men’s Roundtable where we discuss topics impacting men today\, provide support for one another\, and grow in Christ together.
URL:https://avefcoc.com/events/nmlb-mens-roundtable-2/
CATEGORIES:NMLB - No Man Left Behind Ministry
ATTACH;FMTTYPE=image/webp:https://avefcoc.com/wp-content/uploads/2025/01/roundtableImge2025.webp
END:VEVENT
BEGIN:VEVENT
DTSTART;TZID=America/Chicago:20250114T190000
DTEND;TZID=America/Chicago:20250114T200000
DTSTAMP:20260424T064436
CREATED:20250106T033759Z
LAST-MODIFIED:20250124T002029Z
UID:28415-1736881200-1736884800@avefcoc.com
SUMMARY:NMLB Men's Roundtable
DESCRIPTION:Join us for the NMLB Men’s Roundtable where we discuss topics impacting men today\, provide support for one another\, and grow in Christ together.
URL:https://avefcoc.com/events/nmlb-mens-roundtable-2/
CATEGORIES:NMLB - No Man Left Behind Ministry
ATTACH;FMTTYPE=image/webp:https://avefcoc.com/wp-content/uploads/2025/01/roundtableImge2025.webp
END:VEVENT
BEGIN:VEVENT
DTSTART;TZID=America/Chicago:20250114T190000
DTEND;TZID=America/Chicago:20250114T200000
DTSTAMP:20260424T064436
CREATED:20250106T033759Z
LAST-MODIFIED:20250124T002029Z
UID:28415-1736881200-1736884800@avefcoc.com
SUMMARY:NMLB Men's Roundtable
DESCRIPTION:Join us for the NMLB Men’s Roundtable where we discuss topics impacting men today\, provide support for one another\, and grow in Christ together.
URL:https://avefcoc.com/events/nmlb-mens-roundtable-2/
CATEGORIES:NMLB - No Man Left Behind Ministry
ATTACH;FMTTYPE=image/webp:https://avefcoc.com/wp-content/uploads/2025/01/roundtableImge2025.webp
END:VEVENT
BEGIN:VEVENT
DTSTART;TZID=America/Chicago:20250114T190000
DTEND;TZID=America/Chicago:20250114T200000
DTSTAMP:20260424T064436
CREATED:20250106T033759Z
LAST-MODIFIED:20250124T002029Z
UID:28415-1736881200-1736884800@avefcoc.com
SUMMARY:NMLB Men's Roundtable
DESCRIPTION:Join us for the NMLB Men’s Roundtable where we discuss topics impacting men today\, provide support for one another\, and grow in Christ together.
URL:https://avefcoc.com/events/nmlb-mens-roundtable-2/
CATEGORIES:NMLB - No Man Left Behind Ministry
ATTACH;FMTTYPE=image/webp:https://avefcoc.com/wp-content/uploads/2025/01/roundtableImge2025.webp
END:VEVENT
BEGIN:VEVENT
DTSTART;TZID=America/Chicago:20250114T190000
DTEND;TZID=America/Chicago:20250114T200000
DTSTAMP:20260424T064436
CREATED:20250106T033759Z
LAST-MODIFIED:20250124T002029Z
UID:28415-1736881200-1736884800@avefcoc.com
SUMMARY:NMLB Men's Roundtable
DESCRIPTION:Join us for the NMLB Men’s Roundtable where we discuss topics impacting men today\, provide support for one another\, and grow in Christ together.
URL:https://avefcoc.com/events/nmlb-mens-roundtable-2/
CATEGORIES:NMLB - No Man Left Behind Ministry
ATTACH;FMTTYPE=image/webp:https://avefcoc.com/wp-content/uploads/2025/01/roundtableImge2025.webp
END:VEVENT
BEGIN:VEVENT
DTSTART;TZID=America/Chicago:20250114T190000
DTEND;TZID=America/Chicago:20250114T200000
DTSTAMP:20260424T064436
CREATED:20250106T033759Z
LAST-MODIFIED:20250124T002029Z
UID:28415-1736881200-1736884800@avefcoc.com
SUMMARY:NMLB Men's Roundtable
DESCRIPTION:Join us for the NMLB Men’s Roundtable where we discuss topics impacting men today\, provide support for one another\, and grow in Christ together.
URL:https://avefcoc.com/events/nmlb-mens-roundtable-2/
CATEGORIES:NMLB - No Man Left Behind Ministry
ATTACH;FMTTYPE=image/webp:https://avefcoc.com/wp-content/uploads/2025/01/roundtableImge2025.webp
END:VEVENT
BEGIN:VEVENT
DTSTART;TZID=America/Chicago:20250114T190000
DTEND;TZID=America/Chicago:20250114T200000
DTSTAMP:20260424T064436
CREATED:20250106T033759Z
LAST-MODIFIED:20250124T002029Z
UID:28415-1736881200-1736884800@avefcoc.com
SUMMARY:NMLB Men's Roundtable
DESCRIPTION:Join us for the NMLB Men’s Roundtable where we discuss topics impacting men today\, provide support for one another\, and grow in Christ together.
URL:https://avefcoc.com/events/nmlb-mens-roundtable-2/
CATEGORIES:NMLB - No Man Left Behind Ministry
ATTACH;FMTTYPE=image/webp:https://avefcoc.com/wp-content/uploads/2025/01/roundtableImge2025.webp
END:VEVENT
BEGIN:VEVENT
DTSTART;TZID=America/Chicago:20250114T190000
DTEND;TZID=America/Chicago:20250114T200000
DTSTAMP:20260424T064436
CREATED:20250106T033759Z
LAST-MODIFIED:20250124T002029Z
UID:28415-1736881200-1736884800@avefcoc.com
SUMMARY:NMLB Men's Roundtable
DESCRIPTION:Join us for the NMLB Men’s Roundtable where we discuss topics impacting men today\, provide support for one another\, and grow in Christ together.
URL:https://avefcoc.com/events/nmlb-mens-roundtable-2/
CATEGORIES:NMLB - No Man Left Behind Ministry
ATTACH;FMTTYPE=image/webp:https://avefcoc.com/wp-content/uploads/2025/01/roundtableImge2025.webp
END:VEVENT
END:VCALENDAR